BEGIN:VCALENDAR
VERSION:2.0
PRODID:-//hacksw/handcal//NONSGML v1.0//EN
CALSCALE:GREGORIAN
BEGIN:VEVENT
DESCRIPTION:Doorschuifuur 08.55 - 09.55 uur
SUMMARY:Doorschuifuur 08.55 - 09.55 uur
DTSTART:20260709T085500Z
DTEND:20260709T095500Z
DTSTAMP:20260420T053546Z
UID:69e5bb32e4afc
END:VEVENT
END:VCALENDAR