BEGIN:VCALENDAR
VERSION:2.0
PRODID:-//hacksw/handcal//NONSGML v1.0//EN
CALSCALE:GREGORIAN
BEGIN:VEVENT
DESCRIPTION:2e Pinksterdag (zijn alle kinderen vrij)
SUMMARY:2e Pinksterdag (zijn alle kinderen vrij)
DTSTART:20260525T000000Z
DTEND:20260525T000000Z
DTSTAMP:20260420T023831Z
UID:69e591a72f8fb
END:VEVENT
END:VCALENDAR